Workbook

Sheet Registro de Gastos
A1: CONTROL DE GASTOS MENSUAL - Junio 2026
A2: Presupuesto mensual: $500.000
A4: Fecha | B4: Categoria | C4: Descripcion | D4: Monto ($) | E4: Observaciones
A5: 01/06/2026 | B5: Vivienda | C5: Alquiler departamento | D5: 150000 | E5: Mes de junio
A6: 01/06/2026 | B6: Servicios | C6: Electricidad Edenor | D6: 12500 | E6: Bimestral
A7: 02/06/2026 | B7: Alimentacion | C7: Supermercado Coto | D7: 35000 | E7: Compras semanales
A8: 03/06/2026 | B8: Transporte | C8: SUBE recarga | D8: 8000 | E8: Mes completo
A9: 04/06/2026 | B9: Salud | C9: Farmacia | D9: 4500 | E9: Ibuprofeno + vitC
A10: 05/06/2026 | B10: Alimentacion | C10: Verduleria | D10: 5200 | E10: Frutas y verduras
A11: 05/06/2026 | B11: Entretenimiento | C11: Netflix + Spotify | D11: 6500 | E11: Suscripciones
A12: 06/06/2026 | B12: Educacion | C12: Curso Udemy | D12: 8500 | E12: Promo
A13: 07/06/2026 | B13: Ropa | C13: Zapatillas deportivas | D13: 45000 | E13: Nike sale
A14: 08/06/2026 | B14: Alimentacion | C14: Supermercado Coto | D14: 28000 | E14: Compras semanales
A15: 09/06/2026 | B15: Transporte | C15: Nafta | D15: 15000 | E15: YPF
A16: 10/06/2026 | B16: Vivienda | C16: Expensas | D16: 25000 | E16: Mes de junio
... A29: 28/06/2026 | B29: Otros | C29: Suscripcion gym | D29: 12000 | E29: Mensual
C30: TOTAL GASTOS | D30: =SUM(D5:D29)

Sheet Resumen por Categoria
A1: RESUMEN DE GASTOS POR CATEGORIA
A3: Categoria | B3: Presupuesto ($) | C3: Gastado ($) | D3: Diferencia ($) | E3: % Usado
A4: Vivienda | B4: 180000 | C4: =SUMIF('Registro de Gastos'!B5:B29,A4,'Registro de Gastos'!D5:D29) | D4: =B4-C4 | E4: =C4/B4
A5: Alimentacion | B5: 160000 | C5: =SUMIF('Registro de Gastos'!B5:B29,A5,'Registro de Gastos'!D5:D29) | D5: =B5-C5 | E5: =C5/B5
A6: Transporte | B6: 30000 | C6: =SUMIF('Registro de Gastos'!B5:B29,A6,'Registro de Gastos'!D5:D29) | D6: =B6-C6 | E6: =C6/B6
A7: Salud | B7: 50000 | C7: =SUMIF('Registro de Gastos'!B5:B29,A7,'Registro de Gastos'!D5:D29) | D7: =B7-C7 | E7: =C7/B7
A8: Educacion | B8: 25000 | C8: =SUMIF('Registro de Gastos'!B5:B29,A8,'Registro de Gastos'!D5:D29) | D8: =B8-C8 | E8: =C8/B8
A9: Entretenimiento | B9: 30000 | C9: =SUMIF('Registro de Gastos'!B5:B29,A9,'Registro de Gastos'!D5:D29) | D9: =B9-C9 | E9: =C9/B9
A10: Ropa | B10: 70000 | C10: =SUMIF('Registro de Gastos'!B5:B29,A10,'Registro de Gastos'!D5:D29) | D10: =B10-C10 | E10: =C10/B10
A11: Servicios | B11: 30000 | C11: =SUMIF('Registro de Gastos'!B5:B29,A11,'Registro de Gastos'!D5:D29) | D11: =B11-C11 | E11: =C11/B11
A12: Otros | B12: 25000 | C12: =SUMIF('Registro de Gastos'!B5:B29,A12,'Registro de Gastos'!D5:D29) | D12: =B12-C12 | E12: =C12/B12
A13: TOTAL | B13: =SUM(B4:B12) | C13: =SUM(C4:C12) | D13: =B13-C13 | E13: =C13/B13
